BEGIN:VCALENDAR
VERSION:2.0
PRODID:-//time.now/holidays//NONSGML v1.0//EN
BEGIN:VEVENT
UID:546f1bd6-a4c5-43e7-9c67-8165a4563e87
DTSTAMP:20260420T102348Z
DTSTART;VALUE=DATE:20260101
SUMMARY:Liberation Day (Cuba)
END:VEVENT
END:VCALENDAR