BEGIN:VCALENDAR
VERSION:2.0
PRODID:-//time.now/holidays//NONSGML v1.0//EN
BEGIN:VEVENT
UID:b89da6ae-471a-475b-be7a-e400143a7eef
DTSTAMP:20260420T001210Z
DTSTART;VALUE=DATE:20260403
SUMMARY:Good Friday (Cuba)
END:VEVENT
END:VCALENDAR