BEGIN:VCALENDAR
VERSION:2.0
PRODID:-//time.now/holidays//NONSGML v1.0//EN
BEGIN:VEVENT
UID:a2ce2fc3-935a-44dd-a755-ff9889a0852e
DTSTAMP:20260422T132432Z
DTSTART;VALUE=DATE:20260726
SUMMARY:Day of the National Rebellion (Cuba)
END:VEVENT
END:VCALENDAR