BEGIN:VCALENDAR
VERSION:2.0
PRODID:-//time.now/holidays//NONSGML v1.0//EN
BEGIN:VEVENT
UID:9ad671c7-cb38-4cf2-ba05-38b9975cd701
DTSTAMP:20260422T104040Z
DTSTART;VALUE=DATE:20260725
SUMMARY:Commemoration of the Assault of the Moncada garrison (Cuba)
END:VEVENT
END:VCALENDAR