BEGIN:VCALENDAR
VERSION:2.0
PRODID:-//time.now/holidays//NONSGML v1.0//EN
BEGIN:VEVENT
UID:686e5400-edc1-411a-9297-e103602c6141
DTSTAMP:20260420T014732Z
DTSTART;VALUE=DATE:20260106
SUMMARY:Epiphany (Croatie)
END:VEVENT
END:VCALENDAR