BEGIN:VCALENDAR
VERSION:2.0
PRODID:-//time.now/holidays//NONSGML v1.0//EN
BEGIN:VEVENT
UID:34576daf-a67f-4d42-a1c2-bb196f2239f0
DTSTAMP:20260420T093025Z
DTSTART;VALUE=DATE:20260815
SUMMARY:Assumption Day (Croatie)
END:VEVENT
END:VCALENDAR