BEGIN:VCALENDAR
VERSION:2.0
PRODID:-//time.now/holidays//NONSGML v1.0//EN
BEGIN:VEVENT
UID:0173b0c2-8285-4cb5-ad0f-b0ea25be4244
DTSTAMP:20260420T193800Z
DTSTART;VALUE=DATE:20261101
SUMMARY:All Saints' Day (Croatie)
END:VEVENT
END:VCALENDAR