BEGIN:VCALENDAR
VERSION:2.0
PRODID:-//time.now/holidays//NONSGML v1.0//EN
BEGIN:VEVENT
UID:73866e18-b5d7-4f62-96cd-16c47246b43f
DTSTAMP:20260422T084148Z
DTSTART;VALUE=DATE:20260101
SUMMARY:New Year's Day (Côte d'Ivoire)
END:VEVENT
END:VCALENDAR