BEGIN:VCALENDAR
VERSION:2.0
PRODID:-//time.now/holidays//NONSGML v1.0//EN
BEGIN:VEVENT
UID:3d58811e-60eb-4194-b805-3ac0dff9759b
DTSTAMP:20260422T223830Z
DTSTART;VALUE=DATE:20260320
SUMMARY:Eid al-Fitr (Côte d'Ivoire)
END:VEVENT
END:VCALENDAR