BEGIN:VCALENDAR
VERSION:2.0
PRODID:-//time.now/holidays//NONSGML v1.0//EN
BEGIN:VEVENT
UID:160a240d-a291-4f97-8cdf-e6804f159839
DTSTAMP:20260422T091135Z
DTSTART;VALUE=DATE:20330103
SUMMARY:Day after the Eid al-Fitr (Côte d'Ivoire)
END:VEVENT
END:VCALENDAR