BEGIN:VCALENDAR
VERSION:2.0
PRODID:-//time.now/holidays//NONSGML v1.0//EN
BEGIN:VEVENT
UID:0b32b6d7-467a-4638-ba93-06efbee171db
DTSTAMP:20260424T173608Z
DTSTART;VALUE=DATE:20240212
SUMMARY:2024 African Cup of Nations Victory (Côte d'Ivoire)
END:VEVENT
END:VCALENDAR