BEGIN:VCALENDAR
VERSION:2.0
PRODID:-//time.now/holidays//NONSGML v1.0//EN
BEGIN:VEVENT
UID:380453a1-49d4-48ff-b2cf-d7ec070d607f
DTSTAMP:20260422T134305Z
DTSTART;VALUE=DATE:20210503
SUMMARY:International Labor Day (observed) (Costa Rica)
END:VEVENT
END:VCALENDAR