BEGIN:VCALENDAR
VERSION:2.0
PRODID:-//time.now/holidays//NONSGML v1.0//EN
BEGIN:VEVENT
UID:d06e1382-b714-4944-8fae-e245cc3b15a7
DTSTAMP:20260420T195410Z
DTSTART;VALUE=DATE:20260101
SUMMARY:New Year's Day (Îles Cook)
END:VEVENT
END:VCALENDAR