BEGIN:VCALENDAR
VERSION:2.0
PRODID:-//time.now/holidays//NONSGML v1.0//EN
BEGIN:VEVENT
UID:84e31e99-80df-4fe2-9dbe-0531b055d792
DTSTAMP:20260422T091121Z
DTSTART;VALUE=DATE:20261026
SUMMARY:Cook Islands Gospel Day (Îles Cook)
END:VEVENT
END:VCALENDAR