BEGIN:VCALENDAR
VERSION:2.0
PRODID:-//time.now/holidays//NONSGML v1.0//EN
BEGIN:VEVENT
UID:bb6225df-2646-43c8-993a-7de26d9329d6
DTSTAMP:20260422T223255Z
DTSTART;VALUE=DATE:20301028
SUMMARY:Cook Islands Gospel Day (observed) (Îles Cook)
END:VEVENT
END:VCALENDAR