BEGIN:VCALENDAR
VERSION:2.0
PRODID:-//time.now/holidays//NONSGML v1.0//EN
BEGIN:VEVENT
UID:fc9c7cf5-b98a-4ef3-aff6-636c61b44713
DTSTAMP:20260420T091950Z
DTSTART;VALUE=DATE:20261226
SUMMARY:Boxing Day (Îles Cook)
END:VEVENT
END:VCALENDAR