BEGIN:VCALENDAR
VERSION:2.0
PRODID:-//time.now/holidays//NONSGML v1.0//EN
BEGIN:VEVENT
UID:dc885d76-65e6-4031-8fbe-5328f3c8df7c
DTSTAMP:20260420T050439Z
DTSTART;VALUE=DATE:20260101
SUMMARY:New Year's Day (Congo)
END:VEVENT
END:VCALENDAR