BEGIN:VCALENDAR
VERSION:2.0
PRODID:-//time.now/holidays//NONSGML v1.0//EN
BEGIN:VEVENT
UID:1e901e78-17ce-42a7-a332-a0cff8d6850b
DTSTAMP:20260420T034835Z
DTSTART;VALUE=DATE:20261225
SUMMARY:Christmas Day (Congo)
END:VEVENT
END:VCALENDAR