BEGIN:VCALENDAR
VERSION:2.0
PRODID:-//time.now/holidays//NONSGML v1.0//EN
BEGIN:VEVENT
UID:6fd298ce-7268-4e6a-b394-6ccfaabea863
DTSTAMP:20260422T134356Z
DTSTART;VALUE=DATE:20260629
SUMMARY:Saint Peter and Saint Paul's Day (Colombie)
END:VEVENT
END:VCALENDAR