BEGIN:VCALENDAR
VERSION:2.0
PRODID:-//time.now/holidays//NONSGML v1.0//EN
BEGIN:VEVENT
UID:54743e3e-af23-4ad4-acd4-d221b7b8bfca
DTSTAMP:20260422T193048Z
DTSTART;VALUE=DATE:20260101
SUMMARY:New Year's Day (Colombie)
END:VEVENT
END:VCALENDAR