BEGIN:VCALENDAR
VERSION:2.0
PRODID:-//time.now/holidays//NONSGML v1.0//EN
BEGIN:VEVENT
UID:014b7dbe-66d6-4b3f-9cd3-dcd097720444
DTSTAMP:20260420T155809Z
DTSTART;VALUE=DATE:20260402
SUMMARY:Maundy Thursday (Colombie)
END:VEVENT
END:VCALENDAR