BEGIN:VCALENDAR
VERSION:2.0
PRODID:-//time.now/holidays//NONSGML v1.0//EN
BEGIN:VEVENT
UID:15efa623-d2f5-4721-a59f-49adcc6cdd9d
DTSTAMP:20260422T132427Z
DTSTART;VALUE=DATE:20261116
SUMMARY:Independence of Cartagena (observed) (Colombie)
END:VEVENT
END:VCALENDAR