BEGIN:VCALENDAR
VERSION:2.0
PRODID:-//time.now/holidays//NONSGML v1.0//EN
BEGIN:VEVENT
UID:b3786c48-6c8b-45a8-bff6-b4967c3e1c34
DTSTAMP:20260420T204550Z
DTSTART;VALUE=DATE:20260720
SUMMARY:Independence Day (Colombie)
END:VEVENT
END:VCALENDAR