BEGIN:VCALENDAR
VERSION:2.0
PRODID:-//time.now/holidays//NONSGML v1.0//EN
BEGIN:VEVENT
UID:3bef2234-f392-41d8-82e8-a9eee6be1482
DTSTAMP:20260420T123827Z
DTSTART;VALUE=DATE:20261012
SUMMARY:Columbus Day (Colombie)
END:VEVENT
END:VCALENDAR