BEGIN:VCALENDAR
VERSION:2.0
PRODID:-//time.now/holidays//NONSGML v1.0//EN
BEGIN:VEVENT
UID:1ef45f7e-86e5-4d68-b100-42d16a174f10
DTSTAMP:20260420T184102Z
DTSTART;VALUE=DATE:20260518
SUMMARY:Ascension Day (observed) (Colombie)
END:VEVENT
END:VCALENDAR