BEGIN:VCALENDAR
VERSION:2.0
PRODID:-//time.now/holidays//NONSGML v1.0//EN
BEGIN:VEVENT
UID:cf4280bf-f711-490f-9927-b792026e6cfa
DTSTAMP:20260420T180056Z
DTSTART;VALUE=DATE:20271101
SUMMARY:All Saints' Day (Colombie)
END:VEVENT
END:VCALENDAR