BEGIN:VCALENDAR
VERSION:2.0
PRODID:-//time.now/holidays//NONSGML v1.0//EN
BEGIN:VEVENT
UID:735e77de-3ac1-453d-8ee0-7ebf8ea607e1
DTSTAMP:20260420T201806Z
DTSTART;VALUE=DATE:20261102
SUMMARY:All Saints' Day (observed) (Colombie)
END:VEVENT
END:VCALENDAR