BEGIN:VCALENDAR
VERSION:2.0
PRODID:-//time.now/holidays//NONSGML v1.0//EN
BEGIN:VEVENT
UID:6f246e4c-e088-4794-b429-dfbe4e326a7f
DTSTAMP:20260422T112628Z
DTSTART;VALUE=DATE:20221010
SUMMARY:Prophet's Birthday (observed) (Îles Cocos (Keeling))
END:VEVENT
END:VCALENDAR