BEGIN:VCALENDAR
VERSION:2.0
PRODID:-//time.now/holidays//NONSGML v1.0//EN
BEGIN:VEVENT
UID:b6485e5d-6dd8-41ec-b52c-c31626444daf
DTSTAMP:20260420T214632Z
DTSTART;VALUE=DATE:20260101
SUMMARY:New Year's Day (Îles Cocos (Keeling))
END:VEVENT
END:VCALENDAR