BEGIN:VCALENDAR
VERSION:2.0
PRODID:-//time.now/holidays//NONSGML v1.0//EN
BEGIN:VEVENT
UID:96561676-3b43-4de0-ab12-eea33a4b7bf4
DTSTAMP:20260422T085441Z
DTSTART;VALUE=DATE:20280103
SUMMARY:New Year's Day (observed) (Îles Cocos (Keeling))
END:VEVENT
END:VCALENDAR