BEGIN:VCALENDAR
VERSION:2.0
PRODID:-//time.now/holidays//NONSGML v1.0//EN
BEGIN:VEVENT
UID:6582e8a4-ef1e-40ef-ae9c-27f735a2f071
DTSTAMP:20260423T030405Z
DTSTART;VALUE=DATE:20260320
SUMMARY:Eid al-Fitr (estimated) (Îles Cocos (Keeling))
END:VEVENT
END:VCALENDAR