BEGIN:VCALENDAR
VERSION:2.0
PRODID:-//time.now/holidays//NONSGML v1.0//EN
BEGIN:VEVENT
UID:7c86796e-0917-40c0-b4d8-adae3e12c5fc
DTSTAMP:20260420T215048Z
DTSTART;VALUE=DATE:20250606
SUMMARY:Eid al-Adha (observed) (Îles Cocos (Keeling))
END:VEVENT
END:VCALENDAR