BEGIN:VCALENDAR
VERSION:2.0
PRODID:-//time.now/holidays//NONSGML v1.0//EN
BEGIN:VEVENT
UID:c76a144d-01bd-43a2-a9a1-6171edd96c0d
DTSTAMP:20260420T195115Z
DTSTART;VALUE=DATE:20270329
SUMMARY:Easter Monday (Îles Cocos (Keeling))
END:VEVENT
END:VCALENDAR