BEGIN:VCALENDAR
VERSION:2.0
PRODID:-//time.now/holidays//NONSGML v1.0//EN
BEGIN:VEVENT
UID:d320093a-a8f8-4bd0-894c-d43f4356bb83
DTSTAMP:20260420T192605Z
DTSTART;VALUE=DATE:20261226
SUMMARY:Boxing Day (Îles Cocos (Keeling))
END:VEVENT
END:VCALENDAR