BEGIN:VCALENDAR
VERSION:2.0
PRODID:-//time.now/holidays//NONSGML v1.0//EN
BEGIN:VEVENT
UID:5ca3114f-df12-4576-96f2-26e20f162acd
DTSTAMP:20260420T211720Z
DTSTART;VALUE=DATE:20261228
SUMMARY:Boxing Day (observed) (Îles Cocos (Keeling))
END:VEVENT
END:VCALENDAR