BEGIN:VCALENDAR
VERSION:2.0
PRODID:-//time.now/holidays//NONSGML v1.0//EN
BEGIN:VEVENT
UID:2882d842-1f35-49be-b83b-d1b08121a7fd
DTSTAMP:20260420T213625Z
DTSTART;VALUE=DATE:20300128
SUMMARY:Australia Day (observed) (Îles Cocos (Keeling))
END:VEVENT
END:VCALENDAR