BEGIN:VCALENDAR
VERSION:2.0
PRODID:-//time.now/holidays//NONSGML v1.0//EN
BEGIN:VEVENT
UID:2fadcdc7-ba16-4d4a-a532-3697d0b473b3
DTSTAMP:20260420T173612Z
DTSTART;VALUE=DATE:20221007
SUMMARY:Day off (substituted from 10/09/2022) (Chine)
END:VEVENT
END:VCALENDAR