BEGIN:VCALENDAR
VERSION:2.0
PRODID:-//time.now/holidays//NONSGML v1.0//EN
BEGIN:VEVENT
UID:e9d29fb4-1c61-4eb9-a4f0-50e087e1938f
DTSTAMP:20260420T202241Z
DTSTART;VALUE=DATE:20251007
SUMMARY:Day off (substituted from 09/28/2025) (Chine)
END:VEVENT
END:VCALENDAR