BEGIN:VCALENDAR
VERSION:2.0
PRODID:-//time.now/holidays//NONSGML v1.0//EN
BEGIN:VEVENT
UID:6662cd7d-44b6-40c1-8ed9-0ceb7c709cc8
DTSTAMP:20260420T204630Z
DTSTART;VALUE=DATE:20240503
SUMMARY:Day off (substituted from 05/11/2024) (Chine)
END:VEVENT
END:VCALENDAR