BEGIN:VCALENDAR
VERSION:2.0
PRODID:-//time.now/holidays//NONSGML v1.0//EN
BEGIN:VEVENT
UID:202641d5-7066-4791-8b1b-d62c66a98191
DTSTAMP:20260420T170322Z
DTSTART;VALUE=DATE:20220504
SUMMARY:Day off (substituted from 05/07/2022) (Chine)
END:VEVENT
END:VCALENDAR