BEGIN:VCALENDAR
VERSION:2.0
PRODID:-//time.now/holidays//NONSGML v1.0//EN
BEGIN:VEVENT
UID:189ea757-5eaf-4ea4-bd69-09fbd2a99cc4
DTSTAMP:20260420T164722Z
DTSTART;VALUE=DATE:20240405
SUMMARY:Day off (substituted from 04/07/2024) (Chine)
END:VEVENT
END:VCALENDAR