BEGIN:VCALENDAR
VERSION:2.0
PRODID:-//time.now/holidays//NONSGML v1.0//EN
BEGIN:VEVENT
UID:55e04038-e4bc-4a15-b7ec-d3c4dbaef717
DTSTAMP:20260420T195916Z
DTSTART;VALUE=DATE:20240215
SUMMARY:Day off (substituted from 02/04/2024) (Chine)
END:VEVENT
END:VCALENDAR