BEGIN:VCALENDAR
VERSION:2.0
PRODID:-//time.now/holidays//NONSGML v1.0//EN
BEGIN:VEVENT
UID:21c3a82d-134b-4744-9c14-9b86f347e786
DTSTAMP:20260420T183447Z
DTSTART;VALUE=DATE:20230127
SUMMARY:Day off (substituted from 01/29/2023) (Chine)
END:VEVENT
END:VCALENDAR