BEGIN:VCALENDAR
VERSION:2.0
PRODID:-//time.now/holidays//NONSGML v1.0//EN
BEGIN:VEVENT
UID:4fb90483-03e8-455c-afb8-c66c9df63558
DTSTAMP:20260420T191831Z
DTSTART;VALUE=DATE:20250203
SUMMARY:Day off (substituted from 01/26/2025) (Chine)
END:VEVENT
END:VCALENDAR