BEGIN:VCALENDAR
VERSION:2.0
PRODID:-//time.now/holidays//NONSGML v1.0//EN
BEGIN:VEVENT
UID:ea123168-5ab2-4d74-978b-da0ecccce80b
DTSTAMP:20260422T092117Z
DTSTART;VALUE=DATE:20260217
SUMMARY:Chinese New Year (Spring Festival) (Chine)
END:VEVENT
END:VCALENDAR