BEGIN:VCALENDAR
VERSION:2.0
PRODID:-//time.now/holidays//NONSGML v1.0//EN
BEGIN:VEVENT
UID:71ff2844-d9d1-4efe-96b9-17eee940d7fe
DTSTAMP:20260420T073525Z
DTSTART;VALUE=DATE:20261031
SUMMARY:Reformation Day (Chili)
END:VEVENT
END:VCALENDAR