BEGIN:VCALENDAR
VERSION:2.0
PRODID:-//time.now/holidays//NONSGML v1.0//EN
BEGIN:VEVENT
UID:a4d0c57d-cf50-4ab7-b867-4f778770b15b
DTSTAMP:20260420T022539Z
DTSTART;VALUE=DATE:20260815
SUMMARY:Assumption Day (Chili)
END:VEVENT
END:VCALENDAR