BEGIN:VCALENDAR
VERSION:2.0
PRODID:-//time.now/holidays//NONSGML v1.0//EN
BEGIN:VEVENT
UID:aeef1b93-f1ce-4b81-9809-04224dc9b4d4
DTSTAMP:20260420T025701Z
DTSTART;VALUE=DATE:20260919
SUMMARY:Army Day (Chili)
END:VEVENT
END:VCALENDAR