BEGIN:VCALENDAR
VERSION:2.0
PRODID:-//time.now/holidays//NONSGML v1.0//EN
BEGIN:VEVENT
UID:35fa8bae-17d2-4bfe-9e1f-2e28d9988e3b
DTSTAMP:20260420T113918Z
DTSTART;VALUE=DATE:20261101
SUMMARY:All Saints' Day (Chili)
END:VEVENT
END:VCALENDAR