BEGIN:VCALENDAR
VERSION:2.0
PRODID:-//time.now/holidays//NONSGML v1.0//EN
BEGIN:VEVENT
UID:1ed1b6ae-0a6c-4587-823d-c9fa0523a759
DTSTAMP:20260420T093431Z
DTSTART;VALUE=DATE:20260101
SUMMARY:New Year's Day (Tchad)
END:VEVENT
END:VCALENDAR